BEGIN:VCALENDAR
VERSION:2.0
PRODID:-//s-bc.ru//Sport Business Consulting Magazine
CALSCALE:GREGORIAN
BEGIN:VTIMEZONE
TZID:Europe/Moscow
LAST-MODIFIED:20201011T015911Z
TZURL:http://tzurl.org/zoneinfo-outlook/Europe/Moscow
X-LIC-LOCATION:Europe/Moscow
BEGIN:STANDARD
TZNAME:MSK
TZOFFSETFROM:+0300
TZOFFSETTO:+0300
DTSTART:19700101T000000
END:STANDARD
END:VTIMEZONE
BEGIN:VEVENT
DTSTAMP:20260426T002959Z
UID:d8ce9035-b4c5-43ea-aa41-4126f61a0b82
DTSTART;VALUE=DATE:20230607
DTEND;VALUE=DATE:20230608
SUMMARY:SPORT. BUSINESS. PEOPLE
URL:https://s-bc.ru/event/974
DESCRIPTION:&lt;p&gt;Фестиваль спортивного бизнеса SPORT. BUSINESS. PEOPLE. в сфере любительского и детско-юношеского спорта пройдет 7–8 июня 2023 г. в Чкалов Арене (Москва).&lt;/p&gt;
LOCATION:Чкалов Арена, Лётная ул., 73
BEGIN:VALARM
ACTION:DISPLAY
DESCRIPTION:SPORT. BUSINESS. PEOPLE
TRIGGER:-P1D
END:VALARM
END:VEVENT
END:VCALENDAR
