BEGIN:VCALENDAR
VERSION:2.0
PRODID:-//s-bc.ru//Sport Business Consulting Magazine
CALSCALE:GREGORIAN
BEGIN:VTIMEZONE
TZID:Europe/Moscow
LAST-MODIFIED:20201011T015911Z
TZURL:http://tzurl.org/zoneinfo-outlook/Europe/Moscow
X-LIC-LOCATION:Europe/Moscow
BEGIN:STANDARD
TZNAME:MSK
TZOFFSETFROM:+0300
TZOFFSETTO:+0300
DTSTART:19700101T000000
END:STANDARD
END:VTIMEZONE
BEGIN:VEVENT
DTSTAMP:20260426T015709Z
UID:af676fd3-d773-4bc0-84c3-6ae817ce7380
DTSTART;VALUE=DATE:20230622
DTEND;VALUE=DATE:20230623
SUMMARY:Премия и Форум «Спорт и Россия»
URL:https://s-bc.ru/event/971
DESCRIPTION:&lt;p&gt;Оргкомитет X Премии в области поддержки спорта и здорового образа жизни «Спорт и Россия»  продолжает прием заявок на участие. Ежегодное мероприятие нацелено на поощрение организаций, которые добились успехов в продвижении данной отрасли. Награждение состоится в июне в Московской области.&lt;/p&gt;
LOCATION:Moscow Country Club, Московская область, Красногорский р-н, Нахабино
BEGIN:VALARM
ACTION:DISPLAY
DESCRIPTION:Премия и Форум «Спорт и Россия»
TRIGGER:-P1D
END:VALARM
END:VEVENT
END:VCALENDAR
