BEGIN:VCALENDAR
VERSION:2.0
PRODID:-//s-bc.ru//Sport Business Consulting Magazine
CALSCALE:GREGORIAN
BEGIN:VTIMEZONE
TZID:Europe/Moscow
LAST-MODIFIED:20201011T015911Z
TZURL:http://tzurl.org/zoneinfo-outlook/Europe/Moscow
X-LIC-LOCATION:Europe/Moscow
BEGIN:STANDARD
TZNAME:MSK
TZOFFSETFROM:+0300
TZOFFSETTO:+0300
DTSTART:19700101T000000
END:STANDARD
END:VTIMEZONE
BEGIN:VEVENT
DTSTAMP:20260426T032238Z
UID:f28f2ad2-297b-4ef6-b664-7122cb3505a1
DTSTART;VALUE=DATE:20230302
DTEND;VALUE=DATE:20230303
SUMMARY:Форум Букмекеров России
URL:https://s-bc.ru/event/968
DESCRIPTION:&lt;p&gt;2 – 3 марта 2023 года в Москве, в отеле Radisson Blu Belorusskaya, пройдет Форум Букмекеров России – первое профессиональное мероприятие, которое объединит топовых букмекеров, представителей спорта и регуляторов, чтобы обсудить актуальные вопросы развития рынка азартных игр.&lt;/p&gt;
LOCATION:Radisson Blu Belorusskaya, 3-я ул. Ямского Поля, 26А
BEGIN:VALARM
ACTION:DISPLAY
DESCRIPTION:Форум Букмекеров России
TRIGGER:-P1D
END:VALARM
END:VEVENT
END:VCALENDAR
