BEGIN:VCALENDAR
VERSION:2.0
PRODID:-//s-bc.ru//Sport Business Consulting Magazine
CALSCALE:GREGORIAN
BEGIN:VTIMEZONE
TZID:Europe/Moscow
LAST-MODIFIED:20201011T015911Z
TZURL:http://tzurl.org/zoneinfo-outlook/Europe/Moscow
X-LIC-LOCATION:Europe/Moscow
BEGIN:STANDARD
TZNAME:MSK
TZOFFSETFROM:+0300
TZOFFSETTO:+0300
DTSTART:19700101T000000
END:STANDARD
END:VTIMEZONE
BEGIN:VEVENT
DTSTAMP:20260425T204437Z
UID:ac9dfd87-e99b-425e-8655-1eb30c14c581
DTSTART;VALUE=DATE:20221215
DTEND;VALUE=DATE:20221216
SUMMARY:Международный хоккейный форум
URL:https://s-bc.ru/event/960
DESCRIPTION:&lt;p&gt;15-16 декабря в Москве пройдет VII Международный хоккейный форум.&lt;/p&gt;&lt;p&gt;Мероприятие проводится Федерацией хоккея России при поддержке Минспорта России, Олимпийского комитета России и Москомспорта с 2016 года.&lt;/p&gt;&lt;p&gt;Форум уже стал одним из центральных событий хоккейного сезона, в декабре 2021-го в нем приняли участие более 1500 человек из 40 стран мира.&lt;/p&gt;
LOCATION:-, -
BEGIN:VALARM
ACTION:DISPLAY
DESCRIPTION:Международный хоккейный форум
TRIGGER:-P1D
END:VALARM
END:VEVENT
END:VCALENDAR
