BEGIN:VCALENDAR
VERSION:2.0
PRODID:-//s-bc.ru//Sport Business Consulting Magazine
CALSCALE:GREGORIAN
BEGIN:VTIMEZONE
TZID:Europe/Moscow
LAST-MODIFIED:20201011T015911Z
TZURL:http://tzurl.org/zoneinfo-outlook/Europe/Moscow
X-LIC-LOCATION:Europe/Moscow
BEGIN:STANDARD
TZNAME:MSK
TZOFFSETFROM:+0300
TZOFFSETTO:+0300
DTSTART:19700101T000000
END:STANDARD
END:VTIMEZONE
BEGIN:VEVENT
DTSTAMP:20260425T173912Z
UID:25726bd3-33c2-4b37-bfb8-e29f437f52fd
DTSTART;VALUE=DATE:20230116
DTEND;VALUE=DATE:20230118
SUMMARY:SPORT CASUAL MOSCOW
URL:https://s-bc.ru/event/958
DESCRIPTION:&lt;p&gt;Выставка проводится с 2016 г. и объединяет основную экспозицию – предзаказ спортивных коллекций и тематические экспозиции: «Экипировка/Sport Equip», «Фитнес Клуб» и «Технологии Sport Casual». Участники: производственные и торговые компании.&lt;/p&gt;&lt;p&gt;Посетители: мультибрендовые магазины, торговые сети, универмаги, Internet-магазины, экипировочные центры, спортивные федерации, клубы и команды&lt;/p&gt;
LOCATION:Измайлово Гамма-Дельта, Измайловское шоссе, д. 71, корп. 4 Г-Д. Конгресс-центр АО ТГК «Измайлово» «Гамма-Дельта» 3 этаж.
BEGIN:VALARM
ACTION:DISPLAY
DESCRIPTION:SPORT CASUAL MOSCOW
TRIGGER:-P1D
END:VALARM
END:VEVENT
END:VCALENDAR
