BEGIN:VCALENDAR
VERSION:2.0
PRODID:-//s-bc.ru//Sport Business Consulting Magazine
CALSCALE:GREGORIAN
BEGIN:VTIMEZONE
TZID:Europe/Moscow
LAST-MODIFIED:20201011T015911Z
TZURL:http://tzurl.org/zoneinfo-outlook/Europe/Moscow
X-LIC-LOCATION:Europe/Moscow
BEGIN:STANDARD
TZNAME:MSK
TZOFFSETFROM:+0300
TZOFFSETTO:+0300
DTSTART:19700101T000000
END:STANDARD
END:VTIMEZONE
BEGIN:VEVENT
DTSTAMP:20260425T160532Z
UID:6e7a6eb0-8c4e-4bcf-9d89-9d2579286839
DTSTART;VALUE=DATE:20230419
DTEND;VALUE=DATE:20230419
SUMMARY:SPORT BUSINESS AWARDS
URL:https://s-bc.ru/event/957
DESCRIPTION:&lt;p&gt;Чемпионат России по спортивному бизнесу!&lt;/p&gt;&lt;p&gt;Премия Sport Business Awards уже шестой раз объединяет профессионалов спортивного бизнеса: строительства, управления, технологий и инноваций. Премия достанется лучшим проектам, спортивным сооружениям и менеджерам по итогам 2022 года.&lt;/p&gt;
LOCATION:Концертный зал &quot;МИР&quot;, Москва, Цветной бульвар д.11 с.2
BEGIN:VALARM
ACTION:DISPLAY
DESCRIPTION:SPORT BUSINESS AWARDS
TRIGGER:-P1D
END:VALARM
END:VEVENT
END:VCALENDAR
