BEGIN:VCALENDAR
VERSION:2.0
PRODID:-//s-bc.ru//Sport Business Consulting Magazine
CALSCALE:GREGORIAN
BEGIN:VTIMEZONE
TZID:Europe/Moscow
LAST-MODIFIED:20201011T015911Z
TZURL:http://tzurl.org/zoneinfo-outlook/Europe/Moscow
X-LIC-LOCATION:Europe/Moscow
BEGIN:STANDARD
TZNAME:MSK
TZOFFSETFROM:+0300
TZOFFSETTO:+0300
DTSTART:19700101T000000
END:STANDARD
END:VTIMEZONE
BEGIN:VEVENT
DTSTAMP:20260425T140835Z
UID:704506aa-4509-4f0a-bc57-759f582e9892
DTSTART;VALUE=DATE:20221128
DTEND;VALUE=DATE:20221129
SUMMARY:Форум экшн спорта «Экстрим Культура»
URL:https://s-bc.ru/event/956
DESCRIPTION:&lt;p&gt;28-29 ноября в Москве пройдет первый в России форум экшн спорта «Экстрим Культура».&lt;/p&gt;&lt;p&gt;На одной площадке соберутся представители министерств, грантовых операторов, медийных площадок, крупных и локальных брендов, различных экшн-сообществ и спортивных федераций.&lt;/p&gt;
LOCATION:«Академия» ВТБ Арена парк, Ленинградский проспект, 36 стр. 29
BEGIN:VALARM
ACTION:DISPLAY
DESCRIPTION:Форум экшн спорта «Экстрим Культура»
TRIGGER:-P1D
END:VALARM
END:VEVENT
END:VCALENDAR
