BEGIN:VCALENDAR
VERSION:2.0
PRODID:-//s-bc.ru//Sport Business Consulting Magazine
CALSCALE:GREGORIAN
BEGIN:VTIMEZONE
TZID:Europe/Moscow
LAST-MODIFIED:20201011T015911Z
TZURL:http://tzurl.org/zoneinfo-outlook/Europe/Moscow
X-LIC-LOCATION:Europe/Moscow
BEGIN:STANDARD
TZNAME:MSK
TZOFFSETFROM:+0300
TZOFFSETTO:+0300
DTSTART:19700101T000000
END:STANDARD
END:VTIMEZONE
BEGIN:VEVENT
DTSTAMP:20260425T040530Z
UID:411378a9-645b-4168-87f7-cbaff5baccc5
DTSTART;VALUE=DATE:20220909
DTEND;VALUE=DATE:20220910
SUMMARY:Ежегодная конференция по трендам IT и кроссплатформенной разработке CrossConf
URL:https://s-bc.ru/event/949
DESCRIPTION:
LOCATION:Иннополис, 
BEGIN:VALARM
ACTION:DISPLAY
DESCRIPTION:Ежегодная конференция по трендам IT и кроссплатформенной разработке CrossConf
TRIGGER:-P1D
END:VALARM
END:VEVENT
END:VCALENDAR
