BEGIN:VCALENDAR
VERSION:2.0
PRODID:-//s-bc.ru//Sport Business Consulting Magazine
CALSCALE:GREGORIAN
BEGIN:VTIMEZONE
TZID:Europe/Moscow
LAST-MODIFIED:20201011T015911Z
TZURL:http://tzurl.org/zoneinfo-outlook/Europe/Moscow
X-LIC-LOCATION:Europe/Moscow
BEGIN:STANDARD
TZNAME:MSK
TZOFFSETFROM:+0300
TZOFFSETTO:+0300
DTSTART:19700101T000000
END:STANDARD
END:VTIMEZONE
BEGIN:VEVENT
DTSTAMP:20260425T020904Z
UID:7ea93e20-813f-4dd6-861c-bd4f77274ba4
DTSTART;VALUE=DATE:20220921
DTEND;VALUE=DATE:20220921
SUMMARY:Спортобъект 2.0: Свет. Звук. Мультимедиа
URL:https://s-bc.ru/event/944
DESCRIPTION:&lt;p&gt;Легендарный бизнес-завтрак СБК «Спортобъект 2.0: Свет. Звук. Мультимедиа» соберет более 300 представителей спортивных сооружений, государственной власти, производителей и поставщиков, проектных и строительных компаний в ЦВК «Экспоцентр».&lt;/p&gt;
LOCATION:ЦВК «Экспоцентр», Москва, Краснопресненская набережная, 14
BEGIN:VALARM
ACTION:DISPLAY
DESCRIPTION:Спортобъект 2.0: Свет. Звук. Мультимедиа
TRIGGER:-P1D
END:VALARM
END:VEVENT
END:VCALENDAR
