BEGIN:VCALENDAR
VERSION:2.0
PRODID:-//s-bc.ru//Sport Business Consulting Magazine
CALSCALE:GREGORIAN
BEGIN:VTIMEZONE
TZID:Europe/Moscow
LAST-MODIFIED:20201011T015911Z
TZURL:http://tzurl.org/zoneinfo-outlook/Europe/Moscow
X-LIC-LOCATION:Europe/Moscow
BEGIN:STANDARD
TZNAME:MSK
TZOFFSETFROM:+0300
TZOFFSETTO:+0300
DTSTART:19700101T000000
END:STANDARD
END:VTIMEZONE
BEGIN:VEVENT
DTSTAMP:20260425T034304Z
UID:11495947-013d-405f-99ec-394f301fda61
DTSTART;VALUE=DATE:20220928
DTEND;VALUE=DATE:20220930
SUMMARY:Х Международный форум &quot;Россия - спортивная держава&quot;
URL:https://s-bc.ru/event/938
DESCRIPTION:
LOCATION:Ледовый Дворец «Кузбасс» в г. Кемерово, ​Притомский проспект, 12 Центральный район, Кемерово, 650066
BEGIN:VALARM
ACTION:DISPLAY
DESCRIPTION:Х Международный форум &quot;Россия - спортивная держава&quot;
TRIGGER:-P1D
END:VALARM
END:VEVENT
END:VCALENDAR
