BEGIN:VCALENDAR
VERSION:2.0
PRODID:-//s-bc.ru//Sport Business Consulting Magazine
CALSCALE:GREGORIAN
BEGIN:VTIMEZONE
TZID:Europe/Moscow
LAST-MODIFIED:20201011T015911Z
TZURL:http://tzurl.org/zoneinfo-outlook/Europe/Moscow
X-LIC-LOCATION:Europe/Moscow
BEGIN:STANDARD
TZNAME:MSK
TZOFFSETFROM:+0300
TZOFFSETTO:+0300
DTSTART:19700101T000000
END:STANDARD
END:VTIMEZONE
BEGIN:VEVENT
DTSTAMP:20260425T052648Z
UID:4f4886d6-916d-4d8c-bc2e-ab5dde48c513
DTSTART;VALUE=DATE:20220531
DTEND;VALUE=DATE:20220531
SUMMARY:Онлайн-выставка и конференция «Массовый, любительский и детский спорт»
URL:https://s-bc.ru/event/933
DESCRIPTION:Мероприятие проводится на цифровой платформе in_Sport 365 и посвященовопросам проведения мероприятий в новых условиях и онлайн-выставка лучших спортивных объектов России
LOCATION:Онлайн, 
BEGIN:VALARM
ACTION:DISPLAY
DESCRIPTION:Онлайн-выставка и конференция «Массовый, любительский и детский спорт»
TRIGGER:-P1D
END:VALARM
END:VEVENT
END:VCALENDAR
