BEGIN:VCALENDAR
VERSION:2.0
PRODID:-//s-bc.ru//Sport Business Consulting Magazine
CALSCALE:GREGORIAN
BEGIN:VTIMEZONE
TZID:Europe/Moscow
LAST-MODIFIED:20201011T015911Z
TZURL:http://tzurl.org/zoneinfo-outlook/Europe/Moscow
X-LIC-LOCATION:Europe/Moscow
BEGIN:STANDARD
TZNAME:MSK
TZOFFSETFROM:+0300
TZOFFSETTO:+0300
DTSTART:19700101T000000
END:STANDARD
END:VTIMEZONE
BEGIN:VEVENT
DTSTAMP:20260425T071616Z
UID:439a88b5-a42f-46bd-aec7-ce010d24e92f
DTSTART;VALUE=DATE:20220630
DTEND;VALUE=DATE:20220630
SUMMARY:Премия РБ
URL:https://s-bc.ru/event/931
DESCRIPTION:Российские игроки на ставках снова выберут лучшего букмекера года
LOCATION:Дворец гимнастики Ирины Винер-Усмановой, 
BEGIN:VALARM
ACTION:DISPLAY
DESCRIPTION:Премия РБ
TRIGGER:-P1D
END:VALARM
END:VEVENT
END:VCALENDAR
