BEGIN:VCALENDAR
VERSION:2.0
PRODID:-//s-bc.ru//Sport Business Consulting Magazine
CALSCALE:GREGORIAN
BEGIN:VTIMEZONE
TZID:Europe/Moscow
LAST-MODIFIED:20201011T015911Z
TZURL:http://tzurl.org/zoneinfo-outlook/Europe/Moscow
X-LIC-LOCATION:Europe/Moscow
BEGIN:STANDARD
TZNAME:MSK
TZOFFSETFROM:+0300
TZOFFSETTO:+0300
DTSTART:19700101T000000
END:STANDARD
END:VTIMEZONE
BEGIN:VEVENT
DTSTAMP:20260425T140301Z
UID:8ee74ce7-14de-4c4f-a78e-dace62abf75c
DTSTART;VALUE=DATE:20220707
DTEND;VALUE=DATE:20220708
SUMMARY:Первая межотраслевая конференция строительного бизнеса «Строим спорт сегодня»
URL:https://s-bc.ru/event/927
DESCRIPTION:7-8 июля в Санкт-Петербурге Российская ассоциация спортивных сооружений проводит Первую межотраслевую конференцию строительного бизнеса «Строим спорт сегодня»
LOCATION:Санкт-Петербург, 
BEGIN:VALARM
ACTION:DISPLAY
DESCRIPTION:Первая межотраслевая конференция строительного бизнеса «Строим спорт сегодня»
TRIGGER:-P1D
END:VALARM
END:VEVENT
END:VCALENDAR
