BEGIN:VCALENDAR
VERSION:2.0
PRODID:-//s-bc.ru//Sport Business Consulting Magazine
CALSCALE:GREGORIAN
BEGIN:VTIMEZONE
TZID:Europe/Moscow
LAST-MODIFIED:20201011T015911Z
TZURL:http://tzurl.org/zoneinfo-outlook/Europe/Moscow
X-LIC-LOCATION:Europe/Moscow
BEGIN:STANDARD
TZNAME:MSK
TZOFFSETFROM:+0300
TZOFFSETTO:+0300
DTSTART:19700101T000000
END:STANDARD
END:VTIMEZONE
BEGIN:VEVENT
DTSTAMP:20260425T174042Z
UID:1d8bd200-f041-424e-a929-e16813661869
DTSTART;VALUE=DATE:20220330
DTEND;VALUE=DATE:20220331
SUMMARY:Форум «Мы вместе.Спорт»
URL:https://s-bc.ru/event/925
DESCRIPTION:Форум объединит представителей спортивного сообщества нашей страны – спортсменов, тренеров, специалистов, спортивные федерации и организации, государственные и региональные органы власти.
LOCATION:ЦВК &quot;Экспоцентр&quot; , Москва, Краснопресненская наб., д. 14.
BEGIN:VALARM
ACTION:DISPLAY
DESCRIPTION:Форум «Мы вместе.Спорт»
TRIGGER:-P1D
END:VALARM
END:VEVENT
END:VCALENDAR
