BEGIN:VCALENDAR
VERSION:2.0
PRODID:-//s-bc.ru//Sport Business Consulting Magazine
CALSCALE:GREGORIAN
BEGIN:VTIMEZONE
TZID:Europe/Moscow
LAST-MODIFIED:20201011T015911Z
TZURL:http://tzurl.org/zoneinfo-outlook/Europe/Moscow
X-LIC-LOCATION:Europe/Moscow
BEGIN:STANDARD
TZNAME:MSK
TZOFFSETFROM:+0300
TZOFFSETTO:+0300
DTSTART:19700101T000000
END:STANDARD
END:VTIMEZONE
BEGIN:VEVENT
DTSTAMP:20260425T191408Z
UID:aacf1f35-da3d-4c3b-8c90-6562be344b99
DTSTART;VALUE=DATE:20220317
DTEND;VALUE=DATE:20220317
SUMMARY:«Антикризис в спортивной индустрии. Что делать?»
URL:https://s-bc.ru/event/916
DESCRIPTION:17 марта «СБК. Спорт Бизнес Консалтинг» проведет бизнес-завтрак на тему «Антикризис в спортивной индустрии. Что делать?». Наши гости и эксперты будут вместе искать пути развития спорта в стране в условиях сильнейших потрясений.
LOCATION:Общественная палата РФ, Миусская площадь, д. 7, стр. 1
BEGIN:VALARM
ACTION:DISPLAY
DESCRIPTION:«Антикризис в спортивной индустрии. Что делать?»
TRIGGER:-P1D
END:VALARM
END:VEVENT
END:VCALENDAR
