BEGIN:VCALENDAR
VERSION:2.0
PRODID:-//s-bc.ru//Sport Business Consulting Magazine
CALSCALE:GREGORIAN
BEGIN:VTIMEZONE
TZID:Europe/Moscow
LAST-MODIFIED:20201011T015911Z
TZURL:http://tzurl.org/zoneinfo-outlook/Europe/Moscow
X-LIC-LOCATION:Europe/Moscow
BEGIN:STANDARD
TZNAME:MSK
TZOFFSETFROM:+0300
TZOFFSETTO:+0300
DTSTART:19700101T000000
END:STANDARD
END:VTIMEZONE
BEGIN:VEVENT
DTSTAMP:20260425T204357Z
UID:8b30d09d-e607-45f7-8801-0b0bb2ffbe5b
DTSTART;VALUE=DATE:20211202
DTEND;VALUE=DATE:20211202
SUMMARY:Корпоративный спорт: поиск эффективных моделей вовлечения работников организаций и членов их семей в систематические занятия физической культурой и спортом
URL:https://s-bc.ru/event/914
DESCRIPTION:МЕЖДУНАРОДНАЯ НАУЧНО-ПРАКТИЧЕСКАЯ КОНФЕРЕНЦИЯ «Корпоративный спорт: поиск эффективных  моделей вовлечения работников организаций
и членов их семей в систематические занятия физической культурой и спортом»
LOCATION:Офис «Коммерсантъ», Москва-Сити «Башня на Набережной» 35 этаж, г. Москва
BEGIN:VALARM
ACTION:DISPLAY
DESCRIPTION:Корпоративный спорт: поиск эффективных моделей вовлечения работников организаций и членов их семей в систематические занятия физической культурой и спортом
TRIGGER:-P1D
END:VALARM
END:VEVENT
END:VCALENDAR
