BEGIN:VCALENDAR
VERSION:2.0
PRODID:-//s-bc.ru//Sport Business Consulting Magazine
CALSCALE:GREGORIAN
BEGIN:VTIMEZONE
TZID:Europe/Moscow
LAST-MODIFIED:20201011T015911Z
TZURL:http://tzurl.org/zoneinfo-outlook/Europe/Moscow
X-LIC-LOCATION:Europe/Moscow
BEGIN:STANDARD
TZNAME:MSK
TZOFFSETFROM:+0300
TZOFFSETTO:+0300
DTSTART:19700101T000000
END:STANDARD
END:VTIMEZONE
BEGIN:VEVENT
DTSTAMP:20260425T233559Z
UID:1b617f3c-37f7-43cc-980c-7f00867d21c0
DTSTART;VALUE=DATE:20211216
DTEND;VALUE=DATE:20211216
SUMMARY:Социальные технологии корпораций: спорт и здоровый образ жизни как тренд XXI века
URL:https://s-bc.ru/event/911
DESCRIPTION:Деловой завтрак СБК - эффективные встречи и деловое общение

LOCATION:Министерство спорта, г. Москва
BEGIN:VALARM
ACTION:DISPLAY
DESCRIPTION:Социальные технологии корпораций: спорт и здоровый образ жизни как тренд XXI века
TRIGGER:-P1D
END:VALARM
END:VEVENT
END:VCALENDAR
