BEGIN:VCALENDAR
VERSION:2.0
PRODID:-//s-bc.ru//Sport Business Consulting Magazine
CALSCALE:GREGORIAN
BEGIN:VTIMEZONE
TZID:Europe/Moscow
LAST-MODIFIED:20201011T015911Z
TZURL:http://tzurl.org/zoneinfo-outlook/Europe/Moscow
X-LIC-LOCATION:Europe/Moscow
BEGIN:STANDARD
TZNAME:MSK
TZOFFSETFROM:+0300
TZOFFSETTO:+0300
DTSTART:19700101T000000
END:STANDARD
END:VTIMEZONE
BEGIN:VEVENT
DTSTAMP:20260426T041045Z
UID:b2dd3469-5d70-47d7-8349-56ce0adb7c4f
DTSTART;VALUE=DATE:20211021
DTEND;VALUE=DATE:20211021
SUMMARY:Экскурсия во дворец «СамбоБокс»
URL:https://s-bc.ru/event/907
DESCRIPTION:Отдельная часть программы «Арена Форум 5.0» — экскурсия на спортивный объект.
LOCATION:Москва, Москва ул. Лужники, д. 24, напротив стр. 31
BEGIN:VALARM
ACTION:DISPLAY
DESCRIPTION:Экскурсия во дворец «СамбоБокс»
TRIGGER:-P1D
END:VALARM
END:VEVENT
END:VCALENDAR
