BEGIN:VCALENDAR
VERSION:2.0
PRODID:-//s-bc.ru//Sport Business Consulting Magazine
CALSCALE:GREGORIAN
BEGIN:VTIMEZONE
TZID:Europe/Moscow
LAST-MODIFIED:20201011T015911Z
TZURL:http://tzurl.org/zoneinfo-outlook/Europe/Moscow
X-LIC-LOCATION:Europe/Moscow
BEGIN:STANDARD
TZNAME:MSK
TZOFFSETFROM:+0300
TZOFFSETTO:+0300
DTSTART:19700101T000000
END:STANDARD
END:VTIMEZONE
BEGIN:VEVENT
DTSTAMP:20260420T141921Z
UID:5c0c4e51-92a7-456d-83db-0660fdfc4ad0
DTSTART;VALUE=DATE:20260219
DTEND;VALUE=DATE:20260222
SUMMARY:СтратСессия
URL:https://s-bc.ru/event/1026
DESCRIPTION:&lt;p&gt;Конференция для лидеров рекламного рынка&lt;/p&gt;
LOCATION:Мурманск, Мурманск
BEGIN:VALARM
ACTION:DISPLAY
DESCRIPTION:СтратСессия
TRIGGER:-P1D
END:VALARM
END:VEVENT
END:VCALENDAR
