BEGIN:VCALENDAR
VERSION:2.0
PRODID:-//s-bc.ru//Sport Business Consulting Magazine
CALSCALE:GREGORIAN
BEGIN:VTIMEZONE
TZID:Europe/Moscow
LAST-MODIFIED:20201011T015911Z
TZURL:http://tzurl.org/zoneinfo-outlook/Europe/Moscow
X-LIC-LOCATION:Europe/Moscow
BEGIN:STANDARD
TZNAME:MSK
TZOFFSETFROM:+0300
TZOFFSETTO:+0300
DTSTART:19700101T000000
END:STANDARD
END:VTIMEZONE
BEGIN:VEVENT
DTSTAMP:20260420T155746Z
UID:f22aa70d-b8ec-47d6-9ed8-3c0c1fb63779
DTSTART;VALUE=DATE:20251120
DTEND;VALUE=DATE:20251120
SUMMARY:От идеи до масштаба: система, которая драйвит бизнес
URL:https://s-bc.ru/event/1025
DESCRIPTION:&lt;p&gt;Последняя встреча сезона Sk SportTech&lt;/p&gt;
LOCATION:Технопарк «Сколково», капсула STEM, Большой бул., 42, стр. 1, инновационный центр «Сколково»
BEGIN:VALARM
ACTION:DISPLAY
DESCRIPTION:От идеи до масштаба: система, которая драйвит бизнес
TRIGGER:-P1D
END:VALARM
END:VEVENT
END:VCALENDAR
